Workbook

Sheet Instructions
A1: GoBisnix Elite Risk Register – Governance Advisory Template
A3: Purpose
A4: This template supports structured enterprise-style risk oversight for growing businesses.
A5: It is designed for leadership teams to monitor operational, financial, and strategic risks.
A7: Key Concepts
A8: Inherent Risk: Risk exposure before controls are applied.
A9: Residual Risk: Risk remaining after controls are implemented.
A10: Control Effectiveness: Strength of existing mitigation measures.
A12: How To Use
A13: 1. Enter risks in the Risk Register sheet.
A14: 2. Select Likelihood and Impact using dropdown lists.
A15: 3. Enter Control Effectiveness score.
... A25: Residual Risk Score = (Likelihood × Impact) − Control Effectiveness

Sheet Risk Register
A1: Risk ID | B1: Risk Category | C1: Risk Description | D1: Inherent Likelihood | E1: Inherent Impact | F1: Inherent Score | G1: Control Effectiveness | H1: Residual Score | I1: Risk Rating | J1: Risk Owner | K1: Mitigation Strategy | L1: Review Date | M1: Status
F2: =IF(OR(D2="",E2=""),"",D2*E2) | H2: =IF(OR(F2="",G2=""),"",F2-G2) | I2: =IF(H2="","",IF(H2<=4,"Low",IF(H2<=9,"Moderate",IF(H2<=15,"High","Critical"))))
F3: =IF(OR(D3="",E3=""),"",D3*E3) | H3: =IF(OR(F3="",G3=""),"",F3-G3) | I3: =IF(H3="","",IF(H3<=4,"Low",IF(H3<=9,"Moderate",IF(H3<=15,"High","Critical"))))
F4: =IF(OR(D4="",E4=""),"",D4*E4) | H4: =IF(OR(F4="",G4=""),"",F4-G4) | I4: =IF(H4="","",IF(H4<=4,"Low",IF(H4<=9,"Moderate",IF(H4<=15,"High","Critical"))))
F5: =IF(OR(D5="",E5=""),"",D5*E5) | H5: =IF(OR(F5="",G5=""),"",F5-G5) | I5: =IF(H5="","",IF(H5<=4,"Low",IF(H5<=9,"Moderate",IF(H5<=15,"High","Critical"))))
F6: =IF(OR(D6="",E6=""),"",D6*E6) | H6: =IF(OR(F6="",G6=""),"",F6-G6) | I6: =IF(H6="","",IF(H6<=4,"Low",IF(H6<=9,"Moderate",IF(H6<=15,"High","Critical"))))
F7: =IF(OR(D7="",E7=""),"",D7*E7) | H7: =IF(OR(F7="",G7=""),"",F7-G7) | I7: =IF(H7="","",IF(H7<=4,"Low",IF(H7<=9,"Moderate",IF(H7<=15,"High","Critical"))))
F8: =IF(OR(D8="",E8=""),"",D8*E8) | H8: =IF(OR(F8="",G8=""),"",F8-G8) | I8: =IF(H8="","",IF(H8<=4,"Low",IF(H8<=9,"Moderate",IF(H8<=15,"High","Critical"))))
F9: =IF(OR(D9="",E9=""),"",D9*E9) | H9: =IF(OR(F9="",G9=""),"",F9-G9) | I9: =IF(H9="","",IF(H9<=4,"Low",IF(H9<=9,"Moderate",IF(H9<=15,"High","Critical"))))
F10: =IF(OR(D10="",E10=""),"",D10*E10) | H10: =IF(OR(F10="",G10=""),"",F10-G10) | I10: =IF(H10="","",IF(H10<=4,"Low",IF(H10<=9,"Moderate",IF(H10<=15,"High","Critical"))))
F11: =IF(OR(D11="",E11=""),"",D11*E11) | H11: =IF(OR(F11="",G11=""),"",F11-G11) | I11: =IF(H11="","",IF(H11<=4,"Low",IF(H11<=9,"Moderate",IF(H11<=15,"High","Critical"))))
F12: =IF(OR(D12="",E12=""),"",D12*E12) | H12: =IF(OR(F12="",G12=""),"",F12-G12) | I12: =IF(H12="","",IF(H12<=4,"Low",IF(H12<=9,"Moderate",IF(H12<=15,"High","Critical"))))
F13: =IF(OR(D13="",E13=""),"",D13*E13) | H13: =IF(OR(F13="",G13=""),"",F13-G13) | I13: =IF(H13="","",IF(H13<=4,"Low",IF(H13<=9,"Moderate",IF(H13<=15,"High","Critical"))))
... F500: =IF(OR(D500="",E500=""),"",D500*E500) | H500: =IF(OR(F500="",G500=""),"",F500-G500) | I500: =IF(H500="","",IF(H500<=4,"Low",IF(H500<=9,"Moderate",IF(H500<=15,"High","Critical"))))

Sheet Dashboard
A1: Executive Risk Dashboard
A3: Total Risks | B3: =COUNTA('Risk Register'!A2:A500) -> 0
A4: Low Risks | B4: =COUNTIF('Risk Register'!I2:I500,"Low") -> 0
A5: Moderate Risks | B5: =COUNTIF('Risk Register'!I2:I500,"Moderate") -> 0
A6: High Risks | B6: =COUNTIF('Risk Register'!I2:I500,"High") -> 0
A7: Critical Risks | B7: =COUNTIF('Risk Register'!I2:I500,"Critical") -> 0

Sheet Top Risks
A1: Top 10 Highest Residual Risks
A3: Risk ID | B3: Category | C3: Risk Description | D3: Residual Score | E3: Owner
A4: =IF($D4="","",IFERROR(INDEX('Risk Register'!$A:$A,MATCH($D4,'Risk Register'!$H:$H,0)),"")) | B4: =IF($A4="","",IFERROR(INDEX('Risk Register'!$B:$B,MATCH($A4,'Risk Register'!$A:$A,0)),"")) | C4: =IF($A4="","",IFERROR(INDEX('Risk Register'!$C:$C,MATCH($A4,'Risk Register'!$A:$A,0)),"")) | D4: =IF(ROWS($D$4:D4)>COUNT('Risk Register'!$H:$H),"",LARGE('Risk Register'!$H:$H,ROWS($D$4:D4))) | E4: =IF($A4="","",IFERROR(INDEX('Risk Register'!$J:$J,MATCH($A4,'Risk Register'!$A:$A,0)),""))
A5: =IF($D5="","",IFERROR(INDEX('Risk Register'!$A:$A,MATCH($D5,'Risk Register'!$H:$H,0)),"")) | B5: =IF($A5="","",IFERROR(INDEX('Risk Register'!$B:$B,MATCH($A5,'Risk Register'!$A:$A,0)),"")) | C5: =IF($A5="","",IFERROR(INDEX('Risk Register'!$C:$C,MATCH($A5,'Risk Register'!$A:$A,0)),"")) | D5: =IF(ROWS($D$4:D5)>COUNT('Risk Register'!$H:$H),"",LARGE('Risk Register'!$H:$H,ROWS($D$4:D5))) | E5: =IF($A5="","",IFERROR(INDEX('Risk Register'!$J:$J,MATCH($A5,'Risk Register'!$A:$A,0)),""))
A6: =IF($D6="","",IFERROR(INDEX('Risk Register'!$A:$A,MATCH($D6,'Risk Register'!$H:$H,0)),"")) | B6: =IF($A6="","",IFERROR(INDEX('Risk Register'!$B:$B,MATCH($A6,'Risk Register'!$A:$A,0)),"")) | C6: =IF($A6="","",IFERROR(INDEX('Risk Register'!$C:$C,MATCH($A6,'Risk Register'!$A:$A,0)),"")) | D6: =IF(ROWS($D$4:D6)>COUNT('Risk Register'!$H:$H),"",LARGE('Risk Register'!$H:$H,ROWS($D$4:D6))) | E6: =IF($A6="","",IFERROR(INDEX('Risk Register'!$J:$J,MATCH($A6,'Risk Register'!$A:$A,0)),""))
A7: =IF($D7="","",IFERROR(INDEX('Risk Register'!$A:$A,MATCH($D7,'Risk Register'!$H:$H,0)),"")) | B7: =IF($A7="","",IFERROR(INDEX('Risk Register'!$B:$B,MATCH($A7,'Risk Register'!$A:$A,0)),"")) | C7: =IF($A7="","",IFERROR(INDEX('Risk Register'!$C:$C,MATCH($A7,'Risk Register'!$A:$A,0)),"")) | D7: =IF(ROWS($D$4:D7)>COUNT('Risk Register'!$H:$H),"",LARGE('Risk Register'!$H:$H,ROWS($D$4:D7))) | E7: =IF($A7="","",IFERROR(INDEX('Risk Register'!$J:$J,MATCH($A7,'Risk Register'!$A:$A,0)),""))
A8: =IF($D8="","",IFERROR(INDEX('Risk Register'!$A:$A,MATCH($D8,'Risk Register'!$H:$H,0)),"")) | B8: =IF($A8="","",IFERROR(INDEX('Risk Register'!$B:$B,MATCH($A8,'Risk Register'!$A:$A,0)),"")) | C8: =IF($A8="","",IFERROR(INDEX('Risk Register'!$C:$C,MATCH($A8,'Risk Register'!$A:$A,0)),"")) | D8: =IF(ROWS($D$4:D8)>COUNT('Risk Register'!$H:$H),"",LARGE('Risk Register'!$H:$H,ROWS($D$4:D8))) | E8: =IF($A8="","",IFERROR(INDEX('Risk Register'!$J:$J,MATCH($A8,'Risk Register'!$A:$A,0)),""))
A9: =IF($D9="","",IFERROR(INDEX('Risk Register'!$A:$A,MATCH($D9,'Risk Register'!$H:$H,0)),"")) | B9: =IF($A9="","",IFERROR(INDEX('Risk Register'!$B:$B,MATCH($A9,'Risk Register'!$A:$A,0)),"")) | C9: =IF($A9="","",IFERROR(INDEX('Risk Register'!$C:$C,MATCH($A9,'Risk Register'!$A:$A,0)),"")) | D9: =IF(ROWS($D$4:D9)>COUNT('Risk Register'!$H:$H),"",LARGE('Risk Register'!$H:$H,ROWS($D$4:D9))) | E9: =IF($A9="","",IFERROR(INDEX('Risk Register'!$J:$J,MATCH($A9,'Risk Register'!$A:$A,0)),""))
A10: =IF($D10="","",IFERROR(INDEX('Risk Register'!$A:$A,MATCH($D10,'Risk Register'!$H:$H,0)),"")) | B10: =IF($A10="","",IFERROR(INDEX('Risk Register'!$B:$B,MATCH($A10,'Risk Register'!$A:$A,0)),"")) | C10: =IF($A10="","",IFERROR(INDEX('Risk Register'!$C:$C,MATCH($A10,'Risk Register'!$A:$A,0)),"")) | D10: =IF(ROWS($D$4:D10)>COUNT('Risk Register'!$H:$H),"",LARGE('Risk Register'!$H:$H,ROWS($D$4:D10))) | E10: =IF($A10="","",IFERROR(INDEX('Risk Register'!$J:$J,MATCH($A10,'Risk Register'!$A:$A,0)),""))
A11: =IF($D11="","",IFERROR(INDEX('Risk Register'!$A:$A,MATCH($D11,'Risk Register'!$H:$H,0)),"")) | B11: =IF($A11="","",IFERROR(INDEX('Risk Register'!$B:$B,MATCH($A11,'Risk Register'!$A:$A,0)),"")) | C11: =IF($A11="","",IFERROR(INDEX('Risk Register'!$C:$C,MATCH($A11,'Risk Register'!$A:$A,0)),"")) | D11: =IF(ROWS($D$4:D11)>COUNT('Risk Register'!$H:$H),"",LARGE('Risk Register'!$H:$H,ROWS($D$4:D11))) | E11: =IF($A11="","",IFERROR(INDEX('Risk Register'!$J:$J,MATCH($A11,'Risk Register'!$A:$A,0)),""))
A12: =IF($D12="","",IFERROR(INDEX('Risk Register'!$A:$A,MATCH($D12,'Risk Register'!$H:$H,0)),"")) | B12: =IF($A12="","",IFERROR(INDEX('Risk Register'!$B:$B,MATCH($A12,'Risk Register'!$A:$A,0)),"")) | C12: =IF($A12="","",IFERROR(INDEX('Risk Register'!$C:$C,MATCH($A12,'Risk Register'!$A:$A,0)),"")) | D12: =IF(ROWS($D$4:D12)>COUNT('Risk Register'!$H:$H),"",LARGE('Risk Register'!$H:$H,ROWS($D$4:D12))) | E12: =IF($A12="","",IFERROR(INDEX('Risk Register'!$J:$J,MATCH($A12,'Risk Register'!$A:$A,0)),""))
A13: =IF($D13="","",IFERROR(INDEX('Risk Register'!$A:$A,MATCH($D13,'Risk Register'!$H:$H,0)),"")) | B13: =IF($A13="","",IFERROR(INDEX('Risk Register'!$B:$B,MATCH($A13,'Risk Register'!$A:$A,0)),"")) | C13: =IF($A13="","",IFERROR(INDEX('Risk Register'!$C:$C,MATCH($A13,'Risk Register'!$A:$A,0)),"")) | D13: =IF(ROWS($D$4:D13)>COUNT('Risk Register'!$H:$H),"",LARGE('Risk Register'!$H:$H,ROWS($D$4:D13))) | E13: =IF($A13="","",IFERROR(INDEX('Risk Register'!$J:$J,MATCH($A13,'Risk Register'!$A:$A,0)),""))

Sheet Risk Categories
A1: Risk Category Summary
A3: Category | B3: Number of Risks | C3: High/Critical Risks
A4: Operational | B4: =COUNTIF('Risk Register'!B:B,"Operational") -> 0 | C4: =COUNTIFS('Risk Register'!B:B,"Operational",'Risk Register'!I:I,"High")+COUNTIFS('Risk Register'!B:B,"Operational",'Risk Register'!I:I,"Critical") -> 0
A5: Financial | B5: =COUNTIF('Risk Register'!B:B,"Financial") -> 0 | C5: =COUNTIFS('Risk Register'!B:B,"Financial",'Risk Register'!I:I,"High")+COUNTIFS('Risk Register'!B:B,"Financial",'Risk Register'!I:I,"Critical") -> 0
A6: Strategic | B6: =COUNTIF('Risk Register'!B:B,"Strategic") -> 0 | C6: =COUNTIFS('Risk Register'!B:B,"Strategic",'Risk Register'!I:I,"High")+COUNTIFS('Risk Register'!B:B,"Strategic",'Risk Register'!I:I,"Critical") -> 0
A7: Compliance | B7: =COUNTIF('Risk Register'!B:B,"Compliance") -> 0 | C7: =COUNTIFS('Risk Register'!B:B,"Compliance",'Risk Register'!I:I,"High")+COUNTIFS('Risk Register'!B:B,"Compliance",'Risk Register'!I:I,"Critical") -> 0
A8: Technology | B8: =COUNTIF('Risk Register'!B:B,"Technology") -> 0 | C8: =COUNTIFS('Risk Register'!B:B,"Technology",'Risk Register'!I:I,"High")+COUNTIFS('Risk Register'!B:B,"Technology",'Risk Register'!I:I,"Critical") -> 0
